BEGIN:VCALENDAR
VERSION:2.0
PRODID:-//https://okkenbroek.net///NONSGML kigkonsult.se iCalcreator 2.10.15//
METHOD:PUBLISH
BEGIN:VEVENT
UID:20260424T154107CEST-0783DG4N9E@https://okkenbroek.net/
DTSTAMP:20260424T134107Z
DESCRIPTION:Gezellig samen koffie drinken https://okkenbroek.net/agenda/age
 nda-okkenbroek/item/evenement/1651-koffie-drinken
DTSTART:20250624T073000Z
DTEND:20250624T083000Z
LOCATION:Noaberhuus Okkenbroek (Oerdijk 222\, 7435 PL Okkenbroek\, Nederlan
 d)
SUMMARY:Koffie drinken
URL:https://okkenbroek.net/agenda/agenda-okkenbroek/item/evenement/1651-kof
 fie-drinken
END:VEVENT
END:VCALENDAR
