BEGIN:VCALENDAR
VERSION:2.0
PRODID:-//https://okkenbroek.net///NONSGML kigkonsult.se iCalcreator 2.10.15//
METHOD:PUBLISH
BEGIN:VEVENT
UID:20260420T190928CEST-0074RwUlFr@https://okkenbroek.net/
DTSTAMP:20260420T170928Z
DESCRIPTION:Gezellig samen koffie drinken en vanaf 10: 00 uur koersbal http
 s://okkenbroek.net/agenda/agenda-okkenbroek/item/evenement/1681-koersbal
DTSTART:20250123T083000Z
DTEND:20250123T103000Z
LOCATION:Noaberhuus Okkenbroek (Oerdijk 222\, 7435 PL Okkenbroek\, Nederlan
 d)
SUMMARY:Koersbal
URL:https://okkenbroek.net/agenda/agenda-okkenbroek/item/evenement/1681-koe
 rsbal
END:VEVENT
END:VCALENDAR
