BEGIN:VCALENDAR
VERSION:2.0
PRODID:-//https://okkenbroek.net///NONSGML kigkonsult.se iCalcreator 2.10.15//
METHOD:PUBLISH
BEGIN:VEVENT
UID:20260420T213829CEST-4602cOU0gs@https://okkenbroek.net/
DTSTAMP:20260420T193829Z
DESCRIPTION:Gezellig samen koffie drinken en vanaf 10: 00 uur koersbal http
 s://okkenbroek.net/agenda/agenda-okkenbroek/item/evenement/1688-koersbal
DTSTART:20250313T083000Z
DTEND:20250313T103000Z
LOCATION:Noaberhuus Okkenbroek (Oerdijk 222\, 7435 PL Okkenbroek\, Nederlan
 d)
SUMMARY:Koersbal
URL:https://okkenbroek.net/agenda/agenda-okkenbroek/item/evenement/1688-koe
 rsbal
END:VEVENT
END:VCALENDAR
