BEGIN:VCALENDAR
VERSION:2.0
PRODID:-//https://okkenbroek.net///NONSGML kigkonsult.se iCalcreator 2.10.15//
METHOD:PUBLISH
BEGIN:VEVENT
UID:20260424T104958CEST-8921NLMTEc@https://okkenbroek.net/
DTSTAMP:20260424T084958Z
DESCRIPTION:Gezellig samen koffie drinken en vanaf 10: 00 uur koersbal http
 s://okkenbroek.net/agenda/agenda-okkenbroek/item/evenement/1719-koersbal
DTSTART:20251023T073000Z
DTEND:20251023T093000Z
LOCATION:Noaberhuus Okkenbroek (Oerdijk 222\, 7435 PL Okkenbroek\, Nederlan
 d)
SUMMARY:Koersbal
URL:https://okkenbroek.net/agenda/agenda-okkenbroek/item/evenement/1719-koe
 rsbal
END:VEVENT
END:VCALENDAR
