BEGIN:VCALENDAR
VERSION:2.0
PRODID:-//https://okkenbroek.net///NONSGML kigkonsult.se iCalcreator 2.10.15//
METHOD:PUBLISH
BEGIN:VEVENT
UID:20260421T122112CEST-9696ePo1Hu@https://okkenbroek.net/
DTSTAMP:20260421T102112Z
DESCRIPTION:Samen koersbal spelen\, met vooraf koffie https://okkenbroek.ne
 t/agenda/agenda-okkenbroek/item/evenement/1845-koersbal
DTSTART:20260709T073000Z
DTEND:20260709T093000Z
LOCATION:Noaberhuus Okkenbroek (Oerdijk 222\, 7435 PL Okkenbroek\, Nederlan
 d)
SUMMARY:Koersbal
URL:https://okkenbroek.net/agenda/agenda-okkenbroek/item/evenement/1845-koe
 rsbal
END:VEVENT
END:VCALENDAR
