BEGIN:VCALENDAR
VERSION:2.0
PRODID:-//https://okkenbroek.net///NONSGML kigkonsult.se iCalcreator 2.10.15//
METHOD:PUBLISH
BEGIN:VEVENT
UID:20260424T111145CEST-1644DHt5m5@https://okkenbroek.net/
DTSTAMP:20260424T091145Z
DESCRIPTION:Palmpasen optocht https://okkenbroek.net/agenda/agenda-okkenbro
 ek/item/evenement/1877-palmpasen
DTSTART:20260329T073000Z
DTEND:20260329T093000Z
LOCATION:Okkenbroek ()
SUMMARY:Palmpasen
URL:https://okkenbroek.net/agenda/agenda-okkenbroek/item/evenement/1877-pal
 mpasen
END:VEVENT
END:VCALENDAR
