BEGIN:VCALENDAR
VERSION:2.0
PRODID:-//https://okkenbroek.net///NONSGML kigkonsult.se iCalcreator 2.10.15//
METHOD:PUBLISH
BEGIN:VEVENT
UID:20260424T072954CEST-4034T7rV9I@https://okkenbroek.net/
DTSTAMP:20260424T052954Z
DESCRIPTION: https://okkenbroek.net/component/rseventspro/evenement/1416-mi
 ni-expositie-dag-van-de-timmerman-met-behoud-van-oud-hand-gereedschapuw-ev
 enement?Itemid=101
DTSTART:20230301T065900Z
DTEND:20230430T055900Z
LOCATION:Noaberhuus Okkenbroek (Oerdijk 222\, 7435 PL Okkenbroek\, Nederlan
 d)
SUMMARY:Mini expositie 'Dag van de timmerman' met behoud van oud (hand)gere
 edschapuw evenement
URL:https://okkenbroek.net/component/rseventspro/evenement/1416-mini-exposi
 tie-dag-van-de-timmerman-met-behoud-van-oud-hand-gereedschapuw-evenement?I
 temid=101
END:VEVENT
END:VCALENDAR
