BEGIN:VCALENDAR
VERSION:2.0
PRODID:-//https://okkenbroek.net///NONSGML kigkonsult.se iCalcreator 2.10.15//
METHOD:PUBLISH
BEGIN:VEVENT
UID:20260421T100358CEST-2166kz77SD@https://okkenbroek.net/
DTSTAMP:20260421T080358Z
DESCRIPTION:Gezellig samen koffie drinken en vanaf 10: 00 uur koersbal http
 s://okkenbroek.net/component/rseventspro/evenement/1684-koersbal?Itemid=10
 1
DTSTART:20250213T083000Z
DTEND:20250213T103000Z
LOCATION:Noaberhuus Okkenbroek (Oerdijk 222\, 7435 PL Okkenbroek\, Nederlan
 d)
SUMMARY:Koersbal
URL:https://okkenbroek.net/component/rseventspro/evenement/1684-koersbal?It
 emid=101
END:VEVENT
END:VCALENDAR
