BEGIN:VCALENDAR
VERSION:2.0
PRODID:-//https://okkenbroek.net///NONSGML kigkonsult.se iCalcreator 2.10.15//
METHOD:PUBLISH
BEGIN:VEVENT
UID:20260421T081941CEST-8482hPLtCD@https://okkenbroek.net/
DTSTAMP:20260421T061941Z
DESCRIPTION:Gezellig samen koffie drinken en vanaf 10: 00 uur koersbal http
 s://okkenbroek.net/component/rseventspro/evenement/1699-koersbal?Itemid=10
 1
DTSTART:20250605T073000Z
DTEND:20250605T093000Z
LOCATION:Noaberhuus Okkenbroek (Oerdijk 222\, 7435 PL Okkenbroek\, Nederlan
 d)
SUMMARY:Koersbal
URL:https://okkenbroek.net/component/rseventspro/evenement/1699-koersbal?It
 emid=101
END:VEVENT
END:VCALENDAR
