BEGIN:VCALENDAR
VERSION:2.0
PRODID:-//https://okkenbroek.net///NONSGML kigkonsult.se iCalcreator 2.10.15//
METHOD:PUBLISH
BEGIN:VEVENT
UID:20260421T064733CEST-2841aCJS5g@https://okkenbroek.net/
DTSTAMP:20260421T044733Z
DESCRIPTION:Gezellig samen koffie drinken en vanaf 10: 00 uur koersbal http
 s://okkenbroek.net/component/rseventspro/evenement/1705-koersbal?Itemid=10
 1
DTSTART:20250717T073000Z
DTEND:20250717T093000Z
LOCATION:Noaberhuus Okkenbroek (Oerdijk 222\, 7435 PL Okkenbroek\, Nederlan
 d)
SUMMARY:Koersbal
URL:https://okkenbroek.net/component/rseventspro/evenement/1705-koersbal?It
 emid=101
END:VEVENT
END:VCALENDAR
