BEGIN:VCALENDAR
VERSION:2.0
PRODID:-//https://okkenbroek.net///NONSGML kigkonsult.se iCalcreator 2.10.15//
METHOD:PUBLISH
BEGIN:VEVENT
UID:20260423T132140CEST-2408zv1uIu@https://okkenbroek.net/
DTSTAMP:20260423T112140Z
DESCRIPTION:Gezellig samen koffie drinken en vanaf 10: 00 uur koersbal http
 s://okkenbroek.net/component/rseventspro/evenement/1722-koersbal?Itemid=10
 1
DTSTART:20251113T083000Z
DTEND:20251113T103000Z
LOCATION:Noaberhuus Okkenbroek (Oerdijk 222\, 7435 PL Okkenbroek\, Nederlan
 d)
SUMMARY:Koersbal
URL:https://okkenbroek.net/component/rseventspro/evenement/1722-koersbal?It
 emid=101
END:VEVENT
END:VCALENDAR
