BEGIN:VCALENDAR
VERSION:2.0
PRODID:-//https://okkenbroek.net///NONSGML kigkonsult.se iCalcreator 2.10.15//
METHOD:PUBLISH
BEGIN:VEVENT
UID:20260421T031142CEST-2861W2xgVa@https://okkenbroek.net/
DTSTAMP:20260421T011142Z
DESCRIPTION:Gezellig samen koffie drinken en vanaf 10: 00 uur koersbal http
 s://okkenbroek.net/component/rseventspro/evenement/1726-koersbal?Itemid=10
 1
DTSTART:20251211T083000Z
DTEND:20251211T103000Z
LOCATION:Noaberhuus Okkenbroek (Oerdijk 222\, 7435 PL Okkenbroek\, Nederlan
 d)
SUMMARY:Koersbal
URL:https://okkenbroek.net/component/rseventspro/evenement/1726-koersbal?It
 emid=101
END:VEVENT
END:VCALENDAR
