BEGIN:VCALENDAR
VERSION:2.0
PRODID:-//https://okkenbroek.net///NONSGML kigkonsult.se iCalcreator 2.10.15//
METHOD:PUBLISH
BEGIN:VEVENT
UID:20260419T143734CEST-0216075UML@https://okkenbroek.net/
DTSTAMP:20260419T123734Z
DESCRIPTION:Gezellig samen koffie drinken https://okkenbroek.net/component/
 rseventspro/evenement/1770-koffie-drinken?Itemid=101
DTSTART:20260303T083000Z
DTEND:20260303T100000Z
LOCATION:Noaberhuus Okkenbroek (Oerdijk 222\, 7435 PL Okkenbroek\, Nederlan
 d)
SUMMARY:Koffie drinken
URL:https://okkenbroek.net/component/rseventspro/evenement/1770-koffie-drin
 ken?Itemid=101
END:VEVENT
END:VCALENDAR
