BEGIN:VCALENDAR
VERSION:2.0
PRODID:-//https://okkenbroek.net///NONSGML kigkonsult.se iCalcreator 2.10.15//
METHOD:PUBLISH
BEGIN:VEVENT
UID:20260421T104809CEST-4966KxBjJr@https://okkenbroek.net/
DTSTAMP:20260421T084809Z
DESCRIPTION:Gezellig samen koffie drinken https://okkenbroek.net/component/
 rseventspro/evenement/1771-koffie-drinken?Itemid=101
DTSTART:20260310T083000Z
DTEND:20260310T100000Z
LOCATION:Noaberhuus Okkenbroek (Oerdijk 222\, 7435 PL Okkenbroek\, Nederlan
 d)
SUMMARY:Koffie drinken
URL:https://okkenbroek.net/component/rseventspro/evenement/1771-koffie-drin
 ken?Itemid=101
END:VEVENT
END:VCALENDAR
