BEGIN:VCALENDAR
VERSION:2.0
PRODID:-//https://okkenbroek.net///NONSGML kigkonsult.se iCalcreator 2.10.15//
METHOD:PUBLISH
BEGIN:VEVENT
UID:20260419T165337CEST-0639s03RhV@https://okkenbroek.net/
DTSTAMP:20260419T145337Z
DESCRIPTION:Gezellig samen koffie drinken https://okkenbroek.net/component/
 rseventspro/evenement/1790-koffie-drinken?Itemid=101
DTSTART:20260721T073000Z
DTEND:20260721T090000Z
LOCATION:Noaberhuus Okkenbroek (Oerdijk 222\, 7435 PL Okkenbroek\, Nederlan
 d)
SUMMARY:Koffie drinken
URL:https://okkenbroek.net/component/rseventspro/evenement/1790-koffie-drin
 ken?Itemid=101
END:VEVENT
END:VCALENDAR
