BEGIN:VCALENDAR
VERSION:2.0
PRODID:-//https://okkenbroek.net///NONSGML kigkonsult.se iCalcreator 2.10.15//
METHOD:PUBLISH
BEGIN:VEVENT
UID:20260419T180732CEST-5147JZuMCM@https://okkenbroek.net/
DTSTAMP:20260419T160732Z
DESCRIPTION:Gezellig samen koffie drinken https://okkenbroek.net/component/
 rseventspro/evenement/1809-koffie-drinken?Itemid=101
DTSTART:20261201T083000Z
DTEND:20261201T100000Z
LOCATION:Noaberhuus Okkenbroek (Oerdijk 222\, 7435 PL Okkenbroek\, Nederlan
 d)
SUMMARY:Koffie drinken
URL:https://okkenbroek.net/component/rseventspro/evenement/1809-koffie-drin
 ken?Itemid=101
END:VEVENT
END:VCALENDAR
