BEGIN:VCALENDAR
VERSION:2.0
PRODID:-//https://okkenbroek.net///NONSGML kigkonsult.se iCalcreator 2.10.15//
METHOD:PUBLISH
BEGIN:VEVENT
UID:20260424T135348CEST-5432h4xa8D@https://okkenbroek.net/
DTSTAMP:20260424T115348Z
DESCRIPTION:Gezellig samen handwerken. Breng je eigen brei\, haak\, borduur
 \, of freubelwerkje mee en ga ermee aan de slag. https://okkenbroek.net/co
 mponent/rseventspro/evenement/1818-handwerken?Itemid=101
DTSTART:20260420T120000Z
DTEND:20260420T140000Z
LOCATION:Noaberhuus Okkenbroek (Oerdijk 222\, 7435 PL Okkenbroek\, Nederlan
 d)
SUMMARY:Handwerken
URL:https://okkenbroek.net/component/rseventspro/evenement/1818-handwerken?
 Itemid=101
END:VEVENT
END:VCALENDAR
