BEGIN:VCALENDAR
VERSION:2.0
PRODID:-//https://okkenbroek.net///NONSGML kigkonsult.se iCalcreator 2.10.15//
METHOD:PUBLISH
BEGIN:VEVENT
UID:20260419T175521CEST-4984XCv5nt@https://okkenbroek.net/
DTSTAMP:20260419T155521Z
DESCRIPTION:Samen koersbal spelen\, met vooraf koffie https://okkenbroek.ne
 t/component/rseventspro/evenement/1843-koersbal?Itemid=101
DTSTART:20260625T073000Z
DTEND:20260625T093000Z
LOCATION:Noaberhuus Okkenbroek (Oerdijk 222\, 7435 PL Okkenbroek\, Nederlan
 d)
SUMMARY:Koersbal
URL:https://okkenbroek.net/component/rseventspro/evenement/1843-koersbal?It
 emid=101
END:VEVENT
END:VCALENDAR
