BEGIN:VCALENDAR
VERSION:2.0
PRODID:-//https://okkenbroek.net///NONSGML kigkonsult.se iCalcreator 2.10.15//
METHOD:PUBLISH
BEGIN:VEVENT
UID:20260424T154053CEST-9609uncOel@https://okkenbroek.net/
DTSTAMP:20260424T134053Z
DESCRIPTION: https://okkenbroek.net/component/rseventspro/evenement/1881-ko
 ningsnacht?Itemid=101
DTSTART:20260426T150000Z
DTEND:20260426T213000Z
LOCATION:Dorpshuis Ons Centrum\, Okkenbroek ()
SUMMARY:Koningsnacht
URL:https://okkenbroek.net/component/rseventspro/evenement/1881-koningsnach
 t?Itemid=101
END:VEVENT
END:VCALENDAR
